BEGIN:VCALENDAR
VERSION:2.0
PRODID:-//Flecken Artlenburg - ECPv6.15.12.1//NONSGML v1.0//EN
CALSCALE:GREGORIAN
METHOD:PUBLISH
X-ORIGINAL-URL:https://artlenburg.de
X-WR-CALDESC:Veranstaltungen für Flecken Artlenburg
REFRESH-INTERVAL;VALUE=DURATION:PT1H
X-Robots-Tag:noindex
X-PUBLISHED-TTL:PT1H
BEGIN:VTIMEZONE
TZID:Europe/Berlin
BEGIN:DAYLIGHT
TZOFFSETFROM:+0100
TZOFFSETTO:+0200
TZNAME:CEST
DTSTART:20220327T010000
END:DAYLIGHT
BEGIN:STANDARD
TZOFFSETFROM:+0200
TZOFFSETTO:+0100
TZNAME:CET
DTSTART:20221030T010000
END:STANDARD
BEGIN:DAYLIGHT
TZOFFSETFROM:+0100
TZOFFSETTO:+0200
TZNAME:CEST
DTSTART:20230326T010000
END:DAYLIGHT
BEGIN:STANDARD
TZOFFSETFROM:+0200
TZOFFSETTO:+0100
TZNAME:CET
DTSTART:20231029T010000
END:STANDARD
BEGIN:DAYLIGHT
TZOFFSETFROM:+0100
TZOFFSETTO:+0200
TZNAME:CEST
DTSTART:20240331T010000
END:DAYLIGHT
BEGIN:STANDARD
TZOFFSETFROM:+0200
TZOFFSETTO:+0100
TZNAME:CET
DTSTART:20241027T010000
END:STANDARD
END:VTIMEZONE
BEGIN:VEVENT
DTSTART;TZID=Europe/Berlin:20230628T170000
DTEND;TZID=Europe/Berlin:20230628T190000
DTSTAMP:20260424T102841
CREATED:20230624T115136Z
LAST-MODIFIED:20230624T115329Z
UID:1549-1687971600-1687978800@artlenburg.de
SUMMARY:Infoveranstaltung neue Elbbrücke
DESCRIPTION:Saisonbeginn: Camper am 2. April 2026Sportboothafen auch teils am 2. April wenn ohne Schwimmsteg\,mit Schwimmsteg am 9. April 2026.
URL:https://artlenburg.de/termine/infoveranstaltung-neue-elbbruecke/
ATTACH;FMTTYPE=image/png:https://artlenburg.de/wp-content/uploads/20230628InfoveranstaltungneueElbbruecke.png
END:VEVENT
BEGIN:VEVENT
DTSTART;TZID=Europe/Berlin:20230628T200000
DTEND;TZID=Europe/Berlin:20230628T220000
DTSTAMP:20260424T102841
CREATED:20230623T051334Z
LAST-MODIFIED:20230624T114146Z
UID:1534-1687982400-1687989600@artlenburg.de
SUMMARY:Ausschussssitzungen
DESCRIPTION:Saisonbeginn: Camper am 2. April 2026Sportboothafen auch teils am 2. April wenn ohne Schwimmsteg\,mit Schwimmsteg am 9. April 2026.
URL:https://artlenburg.de/termine/ausschussssitzungen/
LOCATION:Gasthaus Nienau\, Große Straße 24\, Artlenburg\, 21380\, Deutschland
ATTACH;FMTTYPE=image/png:https://artlenburg.de/wp-content/uploads/ausschussssitzung.png
ORGANIZER;CN="Flecken Artlenburg":MAILTO:verwaltung@artlenburg.de
END:VEVENT
END:VCALENDAR