BEGIN:VCALENDAR
VERSION:2.0
PRODID:-//Flecken Artlenburg - ECPv6.15.12.1//NONSGML v1.0//EN
CALSCALE:GREGORIAN
METHOD:PUBLISH
X-WR-CALNAME:Flecken Artlenburg
X-ORIGINAL-URL:https://artlenburg.de
X-WR-CALDESC:Veranstaltungen für Flecken Artlenburg
REFRESH-INTERVAL;VALUE=DURATION:PT1H
X-Robots-Tag:noindex
X-PUBLISHED-TTL:PT1H
BEGIN:VTIMEZONE
TZID:Europe/Berlin
BEGIN:DAYLIGHT
TZOFFSETFROM:+0100
TZOFFSETTO:+0200
TZNAME:CEST
DTSTART:20220327T010000
END:DAYLIGHT
BEGIN:STANDARD
TZOFFSETFROM:+0200
TZOFFSETTO:+0100
TZNAME:CET
DTSTART:20221030T010000
END:STANDARD
BEGIN:DAYLIGHT
TZOFFSETFROM:+0100
TZOFFSETTO:+0200
TZNAME:CEST
DTSTART:20230326T010000
END:DAYLIGHT
BEGIN:STANDARD
TZOFFSETFROM:+0200
TZOFFSETTO:+0100
TZNAME:CET
DTSTART:20231029T010000
END:STANDARD
BEGIN:DAYLIGHT
TZOFFSETFROM:+0100
TZOFFSETTO:+0200
TZNAME:CEST
DTSTART:20240331T010000
END:DAYLIGHT
BEGIN:STANDARD
TZOFFSETFROM:+0200
TZOFFSETTO:+0100
TZNAME:CET
DTSTART:20241027T010000
END:STANDARD
BEGIN:DAYLIGHT
TZOFFSETFROM:+0100
TZOFFSETTO:+0200
TZNAME:CEST
DTSTART:20250330T010000
END:DAYLIGHT
BEGIN:STANDARD
TZOFFSETFROM:+0200
TZOFFSETTO:+0100
TZNAME:CET
DTSTART:20251026T010000
END:STANDARD
END:VTIMEZONE
BEGIN:VEVENT
DTSTART;TZID=Europe/Berlin:20230701T150000
DTEND;TZID=Europe/Berlin:20230702T170000
DTSTAMP:20260422T132646
CREATED:20230225T154834Z
LAST-MODIFIED:20230604T160000Z
UID:904-1688223600-1688317200@artlenburg.de
SUMMARY:Artlenburger Hafenfest
DESCRIPTION:Saisonbeginn: Camper am 2. April 2026Sportboothafen auch teils am 2. April wenn ohne Schwimmsteg\,mit Schwimmsteg am 9. April 2026.
URL:https://artlenburg.de/termine/artlenburger-hafenfest/
LOCATION:Hafen Artlenburg\, L217 11\, Artlenburg\, 21380
ATTACH;FMTTYPE=image/gif:https://artlenburg.de/wp-content/uploads/hafenfests2023.gif
ORGANIZER;CN="Flecken Artlenburg":MAILTO:verwaltung@artlenburg.de
END:VEVENT
BEGIN:VEVENT
DTSTART;TZID=Europe/Berlin:20230702T103000
DTEND;TZID=Europe/Berlin:20230702T180000
DTSTAMP:20260422T132646
CREATED:20230627T084353Z
LAST-MODIFIED:20230627T084525Z
UID:1561-1688293800-1688320800@artlenburg.de
SUMMARY:Hafenfest
DESCRIPTION:Saisonbeginn: Camper am 2. April 2026Sportboothafen auch teils am 2. April wenn ohne Schwimmsteg\,mit Schwimmsteg am 9. April 2026.
URL:https://artlenburg.de/termine/hafenfest/
LOCATION:Hafen Artlenburg\, L217 11\, Artlenburg\, 21380
ATTACH;FMTTYPE=image/jpeg:https://artlenburg.de/wp-content/uploads/Hafenfest2023kspot.jpg
ORGANIZER;CN="Flecken Artlenburg":MAILTO:verwaltung@artlenburg.de
END:VEVENT
BEGIN:VEVENT
DTSTART;TZID=Europe/Berlin:20230702T130000
DTEND;TZID=Europe/Berlin:20230702T150000
DTSTAMP:20260422T132646
CREATED:20230627T083750Z
LAST-MODIFIED:20230627T083750Z
UID:1558-1688302800-1688310000@artlenburg.de
SUMMARY:Schlagerparty zum Hafenfest
DESCRIPTION:Saisonbeginn: Camper am 2. April 2026Sportboothafen auch teils am 2. April wenn ohne Schwimmsteg\,mit Schwimmsteg am 9. April 2026.
URL:https://artlenburg.de/termine/schlagerparty-zum-hafenfest/
LOCATION:Hafen Artlenburg\, L217 11\, Artlenburg\, 21380
ATTACH;FMTTYPE=image/jpeg:https://artlenburg.de/wp-content/uploads/schlagerparty2023.jpeg
ORGANIZER;CN="Flecken Artlenburg":MAILTO:verwaltung@artlenburg.de
END:VEVENT
BEGIN:VEVENT
DTSTART;TZID=Europe/Berlin:20240707T130000
DTEND;TZID=Europe/Berlin:20240707T130000
DTSTAMP:20260422T132646
CREATED:20240616T172620Z
LAST-MODIFIED:20240616T172620Z
UID:2643-1720357200-1720357200@artlenburg.de
SUMMARY:Schlagerparty zum Hafenfest - Duplicate - [#1558]
DESCRIPTION:Saisonbeginn: Camper am 2. April 2026Sportboothafen auch teils am 2. April wenn ohne Schwimmsteg\,mit Schwimmsteg am 9. April 2026.
URL:https://artlenburg.de/termine/schlagerparty-zum-hafenfest-duplicate-1558/
LOCATION:Hafen Artlenburg\, L217 11\, Artlenburg\, 21380
ATTACH;FMTTYPE=image/jpeg:https://artlenburg.de/wp-content/uploads/schlagerparty2023.jpeg
ORGANIZER;CN="Flecken Artlenburg":MAILTO:verwaltung@artlenburg.de
END:VEVENT
END:VCALENDAR