BEGIN:VCALENDAR
VERSION:2.0
PRODID:-//Flecken Artlenburg - ECPv6.15.12.1//NONSGML v1.0//EN
CALSCALE:GREGORIAN
METHOD:PUBLISH
X-WR-CALNAME:Flecken Artlenburg
X-ORIGINAL-URL:https://artlenburg.de
X-WR-CALDESC:Veranstaltungen für Flecken Artlenburg
REFRESH-INTERVAL;VALUE=DURATION:PT1H
X-Robots-Tag:noindex
X-PUBLISHED-TTL:PT1H
BEGIN:VTIMEZONE
TZID:Europe/Berlin
BEGIN:DAYLIGHT
TZOFFSETFROM:+0100
TZOFFSETTO:+0200
TZNAME:CEST
DTSTART:20220327T010000
END:DAYLIGHT
BEGIN:STANDARD
TZOFFSETFROM:+0200
TZOFFSETTO:+0100
TZNAME:CET
DTSTART:20221030T010000
END:STANDARD
BEGIN:DAYLIGHT
TZOFFSETFROM:+0100
TZOFFSETTO:+0200
TZNAME:CEST
DTSTART:20230326T010000
END:DAYLIGHT
BEGIN:STANDARD
TZOFFSETFROM:+0200
TZOFFSETTO:+0100
TZNAME:CET
DTSTART:20231029T010000
END:STANDARD
BEGIN:DAYLIGHT
TZOFFSETFROM:+0100
TZOFFSETTO:+0200
TZNAME:CEST
DTSTART:20240331T010000
END:DAYLIGHT
BEGIN:STANDARD
TZOFFSETFROM:+0200
TZOFFSETTO:+0100
TZNAME:CET
DTSTART:20241027T010000
END:STANDARD
END:VTIMEZONE
BEGIN:VEVENT
DTSTART;TZID=Europe/Berlin:20231005T160000
DTEND;TZID=Europe/Berlin:20231005T200000
DTSTAMP:20260422T120132
CREATED:20230225T163009Z
LAST-MODIFIED:20230225T163009Z
UID:939-1696521600-1696536000@artlenburg.de
SUMMARY:Blutspende
DESCRIPTION:Saisonbeginn: Camper am 2. April 2026Sportboothafen auch teils am 2. April wenn ohne Schwimmsteg\,mit Schwimmsteg am 9. April 2026.
URL:https://artlenburg.de/termine/blutspende/
LOCATION:Gasthaus Nienau\, Große Straße 24\, Artlenburg\, 21380\, Deutschland
ATTACH;FMTTYPE=image/jpeg:https://artlenburg.de/wp-content/uploads/blutspende_schild_25.jpg
ORGANIZER;CN="DRK Ortsverein Artlenburg/Avendorf":MAILTO:drk-artlenburg@t-online.de
END:VEVENT
END:VCALENDAR