BEGIN:VCALENDAR
VERSION:2.0
PRODID:-//Flecken Artlenburg - ECPv6.15.12.1//NONSGML v1.0//EN
CALSCALE:GREGORIAN
METHOD:PUBLISH
X-WR-CALNAME:Flecken Artlenburg
X-ORIGINAL-URL:https://artlenburg.de
X-WR-CALDESC:Veranstaltungen für Flecken Artlenburg
REFRESH-INTERVAL;VALUE=DURATION:PT1H
X-Robots-Tag:noindex
X-PUBLISHED-TTL:PT1H
BEGIN:VTIMEZONE
TZID:Europe/Berlin
BEGIN:DAYLIGHT
TZOFFSETFROM:+0100
TZOFFSETTO:+0200
TZNAME:CEST
DTSTART:20220327T010000
END:DAYLIGHT
BEGIN:STANDARD
TZOFFSETFROM:+0200
TZOFFSETTO:+0100
TZNAME:CET
DTSTART:20221030T010000
END:STANDARD
BEGIN:DAYLIGHT
TZOFFSETFROM:+0100
TZOFFSETTO:+0200
TZNAME:CEST
DTSTART:20230326T010000
END:DAYLIGHT
BEGIN:STANDARD
TZOFFSETFROM:+0200
TZOFFSETTO:+0100
TZNAME:CET
DTSTART:20231029T010000
END:STANDARD
BEGIN:DAYLIGHT
TZOFFSETFROM:+0100
TZOFFSETTO:+0200
TZNAME:CEST
DTSTART:20240331T010000
END:DAYLIGHT
BEGIN:STANDARD
TZOFFSETFROM:+0200
TZOFFSETTO:+0100
TZNAME:CET
DTSTART:20241027T010000
END:STANDARD
END:VTIMEZONE
BEGIN:VEVENT
DTSTART;TZID=Europe/Berlin:20231012T190000
DTEND;TZID=Europe/Berlin:20231012T210000
DTSTAMP:20260422T194833
CREATED:20231008T150004Z
LAST-MODIFIED:20231008T150516Z
UID:1708-1697137200-1697144400@artlenburg.de
SUMMARY:Bürger-Infoveranstaltung: Naturschutzgebiet Elbeniederung von Hohnstorf bis Artlenburg
DESCRIPTION:Saisonbeginn: Camper am 2. April 2026Sportboothafen auch teils am 2. April wenn ohne Schwimmsteg\,mit Schwimmsteg am 9. April 2026.
URL:https://artlenburg.de/termine/buerger-infoveranstaltung-naturschutzgebiet-elbeniederung-von-hohnstorf-bis-artlenburg/
LOCATION:Evangelisches Gemeindezentrum Hohnstorf\, Triftweg\, Hohnstorf\, Niedersachsen\, 21522\, Deutschland
ATTACH;FMTTYPE=image/png:https://artlenburg.de/wp-content/uploads/Naturschutzgebiet-Elbeniederung-von-Hohnstorf-bis-Artlenburg.png
ORGANIZER;CN="Landkreis L%C3%BCneburg %C2%B7 Naturschutz und Wald":MAILTO:maike.mangelsdorf@landkreis-lueneburg.de
END:VEVENT
END:VCALENDAR