BEGIN:VCALENDAR
VERSION:2.0
PRODID:-//Flecken Artlenburg - ECPv6.15.12.1//NONSGML v1.0//EN
CALSCALE:GREGORIAN
METHOD:PUBLISH
X-WR-CALNAME:Flecken Artlenburg
X-ORIGINAL-URL:https://artlenburg.de
X-WR-CALDESC:Veranstaltungen für Flecken Artlenburg
REFRESH-INTERVAL;VALUE=DURATION:PT1H
X-Robots-Tag:noindex
X-PUBLISHED-TTL:PT1H
BEGIN:VTIMEZONE
TZID:Europe/Berlin
BEGIN:DAYLIGHT
TZOFFSETFROM:+0100
TZOFFSETTO:+0200
TZNAME:CEST
DTSTART:20250330T010000
END:DAYLIGHT
BEGIN:STANDARD
TZOFFSETFROM:+0200
TZOFFSETTO:+0100
TZNAME:CET
DTSTART:20251026T010000
END:STANDARD
BEGIN:DAYLIGHT
TZOFFSETFROM:+0100
TZOFFSETTO:+0200
TZNAME:CEST
DTSTART:20260329T010000
END:DAYLIGHT
BEGIN:STANDARD
TZOFFSETFROM:+0200
TZOFFSETTO:+0100
TZNAME:CET
DTSTART:20261025T010000
END:STANDARD
BEGIN:DAYLIGHT
TZOFFSETFROM:+0100
TZOFFSETTO:+0200
TZNAME:CEST
DTSTART:20270328T010000
END:DAYLIGHT
BEGIN:STANDARD
TZOFFSETFROM:+0200
TZOFFSETTO:+0100
TZNAME:CET
DTSTART:20271031T010000
END:STANDARD
END:VTIMEZONE
BEGIN:VEVENT
DTSTART;TZID=Europe/Berlin:20260420T150000
DTEND;TZID=Europe/Berlin:20260420T160000
DTSTAMP:20260422T103331
CREATED:20260109T155604Z
LAST-MODIFIED:20260412T164819Z
UID:3951-1776697200-1776700800@artlenburg.de
SUMMARY:BeWuKla - Bewegung und Klang; eine Veranstaltung des DRK
DESCRIPTION:Saisonbeginn: Camper am 2. April 2026Sportboothafen auch teils am 2. April wenn ohne Schwimmsteg\,mit Schwimmsteg am 9. April 2026.
URL:https://artlenburg.de/termine/bewukla-bewegung-und-klang-eine-veranstaltung-des-drk-3/
LOCATION:St. Nicolai Artlenburg\, Kirchsteig 1 b\, Artlenburg\, 21380
ATTACH;FMTTYPE=image/png:https://artlenburg.de/wp-content/uploads/BeWuKla-DRK.png
ORGANIZER;CN="DRK Ortsverein Artlenburg/Avendorf":MAILTO:drk-artlenburg@t-online.de
END:VEVENT
END:VCALENDAR