BEGIN:VCALENDAR
VERSION:2.0
PRODID:-//Flecken Artlenburg - ECPv6.15.12.1//NONSGML v1.0//EN
CALSCALE:GREGORIAN
METHOD:PUBLISH
X-WR-CALNAME:Flecken Artlenburg
X-ORIGINAL-URL:https://artlenburg.de
X-WR-CALDESC:Veranstaltungen für Flecken Artlenburg
REFRESH-INTERVAL;VALUE=DURATION:PT1H
X-Robots-Tag:noindex
X-PUBLISHED-TTL:PT1H
BEGIN:VTIMEZONE
TZID:Europe/Berlin
BEGIN:DAYLIGHT
TZOFFSETFROM:+0100
TZOFFSETTO:+0200
TZNAME:CEST
DTSTART:20220327T010000
END:DAYLIGHT
BEGIN:STANDARD
TZOFFSETFROM:+0200
TZOFFSETTO:+0100
TZNAME:CET
DTSTART:20221030T010000
END:STANDARD
BEGIN:DAYLIGHT
TZOFFSETFROM:+0100
TZOFFSETTO:+0200
TZNAME:CEST
DTSTART:20230326T010000
END:DAYLIGHT
BEGIN:STANDARD
TZOFFSETFROM:+0200
TZOFFSETTO:+0100
TZNAME:CET
DTSTART:20231029T010000
END:STANDARD
BEGIN:DAYLIGHT
TZOFFSETFROM:+0100
TZOFFSETTO:+0200
TZNAME:CEST
DTSTART:20240331T010000
END:DAYLIGHT
BEGIN:STANDARD
TZOFFSETFROM:+0200
TZOFFSETTO:+0100
TZNAME:CET
DTSTART:20241027T010000
END:STANDARD
END:VTIMEZONE
BEGIN:VEVENT
DTSTART;TZID=Europe/Berlin:20230503T160000
DTEND;TZID=Europe/Berlin:20230503T200000
DTSTAMP:20260424T115546
CREATED:20230225T151411Z
LAST-MODIFIED:20230225T151411Z
UID:883-1683129600-1683144000@artlenburg.de
SUMMARY:Blutspende - DRK Ortsverein
DESCRIPTION:Saisonbeginn: Camper am 2. April 2026Sportboothafen auch teils am 2. April wenn ohne Schwimmsteg\,mit Schwimmsteg am 9. April 2026.
URL:https://artlenburg.de/termine/blutspende-drk-ortsverein/
LOCATION:Gasthaus Nienau\, Große Straße 24\, Artlenburg\, 21380\, Deutschland
ATTACH;FMTTYPE=image/jpeg:https://artlenburg.de/wp-content/uploads/blutspende_schild_25.jpg
END:VEVENT
BEGIN:VEVENT
DTSTART;TZID=Europe/Berlin:20230506T150000
DTEND;TZID=Europe/Berlin:20230506T180000
DTSTAMP:20260424T115546
CREATED:20230225T144904Z
LAST-MODIFIED:20230225T145050Z
UID:878-1683385200-1683396000@artlenburg.de
SUMMARY:LandFrauen Klönnachmittag
DESCRIPTION:Saisonbeginn: Camper am 2. April 2026Sportboothafen auch teils am 2. April wenn ohne Schwimmsteg\,mit Schwimmsteg am 9. April 2026.
URL:https://artlenburg.de/termine/landfrauen-kloennachmittag/
LOCATION:Feuerwehrgerätehaus Avendorf\, Elbuferstraße 56 B\, Tespe-Avendorf\, Niedersachsen\, 21395
ATTACH;FMTTYPE=image/png:https://artlenburg.de/wp-content/uploads/LuftbildArtlenburg2020-e1679827097827.png
ORGANIZER;CN="LandFrauen-Verein Artlenburg/Avendorf":MAILTO:svenjaleder@gmx.de
END:VEVENT
BEGIN:VEVENT
DTSTART;TZID=Europe/Berlin:20230509T080000
DTEND;TZID=Europe/Berlin:20230509T170000
DTSTAMP:20260424T115546
CREATED:20230225T171525Z
LAST-MODIFIED:20230225T171525Z
UID:967-1683619200-1683651600@artlenburg.de
SUMMARY:DRK Senioren Spielekreis
DESCRIPTION:Saisonbeginn: Camper am 2. April 2026Sportboothafen auch teils am 2. April wenn ohne Schwimmsteg\,mit Schwimmsteg am 9. April 2026.
URL:https://artlenburg.de/termine/drk-senioren-spielekreis-3/
LOCATION:St. Nicolai Artlenburg\, Kirchsteig 1 b\, Artlenburg\, 21380
ATTACH;FMTTYPE=image/jpeg:https://artlenburg.de/wp-content/uploads/kartenspielen.jpg
ORGANIZER;CN="DRK Ortsverein Artlenburg/Avendorf":MAILTO:drk-artlenburg@t-online.de
END:VEVENT
BEGIN:VEVENT
DTSTART;TZID=Europe/Berlin:20230518T110000
DTEND;TZID=Europe/Berlin:20230518T160000
DTSTAMP:20260424T115546
CREATED:20230305T170938Z
LAST-MODIFIED:20230305T170938Z
UID:1112-1684407600-1684425600@artlenburg.de
SUMMARY:Country-Frühschoppen - im Hohnstorfer Fährhaus
DESCRIPTION:Saisonbeginn: Camper am 2. April 2026Sportboothafen auch teils am 2. April wenn ohne Schwimmsteg\,mit Schwimmsteg am 9. April 2026.
URL:https://artlenburg.de/termine/country-fruehschoppen-im-hohnstorfer-faehrhaus/
LOCATION:Alexandros Restaurant\, Elbdeich 35\, Hohnstorf (Elbe)\, 21522
ATTACH;FMTTYPE=image/png:https://artlenburg.de/wp-content/uploads/countryfruehshoppenhohnstorf.png
ORGANIZER;CN="Elb-Dancer":MAILTO:elb_dancer@yahoo.com
END:VEVENT
BEGIN:VEVENT
DTSTART;TZID=Europe/Berlin:20230523T150000
DTEND;TZID=Europe/Berlin:20230523T170000
DTSTAMP:20260424T115546
CREATED:20230225T171720Z
LAST-MODIFIED:20230225T171720Z
UID:969-1684854000-1684861200@artlenburg.de
SUMMARY:DRK Senioren Spielekreis
DESCRIPTION:Saisonbeginn: Camper am 2. April 2026Sportboothafen auch teils am 2. April wenn ohne Schwimmsteg\,mit Schwimmsteg am 9. April 2026.
URL:https://artlenburg.de/termine/drk-senioren-spielekreis-4/
LOCATION:St. Nicolai Artlenburg\, Kirchsteig 1 b\, Artlenburg\, 21380
ATTACH;FMTTYPE=image/jpeg:https://artlenburg.de/wp-content/uploads/kartenspielen.jpg
ORGANIZER;CN="DRK Ortsverein Artlenburg/Avendorf":MAILTO:drk-artlenburg@t-online.de
END:VEVENT
END:VCALENDAR